BEGIN:VCALENDAR
VERSION:2.0
PRODID:-//Trash Pandas LKN - ECPv6.15.20//NONSGML v1.0//EN
CALSCALE:GREGORIAN
METHOD:PUBLISH
X-WR-CALNAME:Trash Pandas LKN
X-ORIGINAL-URL:https://trashpandaslkn.com
X-WR-CALDESC:Events for Trash Pandas LKN
REFRESH-INTERVAL;VALUE=DURATION:PT1H
X-Robots-Tag:noindex
X-PUBLISHED-TTL:PT1H
BEGIN:VTIMEZONE
TZID:America/New_York
BEGIN:DAYLIGHT
TZOFFSETFROM:-0500
TZOFFSETTO:-0400
TZNAME:EDT
DTSTART:20240310T070000
END:DAYLIGHT
BEGIN:STANDARD
TZOFFSETFROM:-0400
TZOFFSETTO:-0500
TZNAME:EST
DTSTART:20241103T060000
END:STANDARD
BEGIN:DAYLIGHT
TZOFFSETFROM:-0500
TZOFFSETTO:-0400
TZNAME:EDT
DTSTART:20250309T070000
END:DAYLIGHT
BEGIN:STANDARD
TZOFFSETFROM:-0400
TZOFFSETTO:-0500
TZNAME:EST
DTSTART:20251102T060000
END:STANDARD
BEGIN:DAYLIGHT
TZOFFSETFROM:-0500
TZOFFSETTO:-0400
TZNAME:EDT
DTSTART:20260308T070000
END:DAYLIGHT
BEGIN:STANDARD
TZOFFSETFROM:-0400
TZOFFSETTO:-0500
TZNAME:EST
DTSTART:20261101T060000
END:STANDARD
END:VTIMEZONE
BEGIN:VEVENT
DTSTART;VALUE=DATE:20250702
DTEND;VALUE=DATE:20250703
DTSTAMP:20260424T183534
CREATED:20240228T021901Z
LAST-MODIFIED:20240228T021928Z
UID:10004473-1751414400-1751500799@trashpandaslkn.com
SUMMARY:South Iron Station - Trash Pick Up
DESCRIPTION:Wednesday: Trash Pick Up for South Iron Station Residents\n 
URL:https://trashpandaslkn.com/schedule/south-iron-station-trash-pick-up-2/2025-07-02/
CATEGORIES:Black Zone
END:VEVENT
BEGIN:VEVENT
DTSTART;VALUE=DATE:20250709
DTEND;VALUE=DATE:20250710
DTSTAMP:20260424T183534
CREATED:20240228T021901Z
LAST-MODIFIED:20240228T021928Z
UID:10004474-1752019200-1752105599@trashpandaslkn.com
SUMMARY:South Iron Station - Trash Pick Up
DESCRIPTION:Wednesday: Trash Pick Up for South Iron Station Residents\n 
URL:https://trashpandaslkn.com/schedule/south-iron-station-trash-pick-up-2/2025-07-09/
CATEGORIES:Black Zone
END:VEVENT
BEGIN:VEVENT
DTSTART;VALUE=DATE:20250716
DTEND;VALUE=DATE:20250717
DTSTAMP:20260424T183534
CREATED:20240228T021901Z
LAST-MODIFIED:20240228T021928Z
UID:10004475-1752624000-1752710399@trashpandaslkn.com
SUMMARY:South Iron Station - Trash Pick Up
DESCRIPTION:Wednesday: Trash Pick Up for South Iron Station Residents\n 
URL:https://trashpandaslkn.com/schedule/south-iron-station-trash-pick-up-2/2025-07-16/
CATEGORIES:Black Zone
END:VEVENT
BEGIN:VEVENT
DTSTART;VALUE=DATE:20250723
DTEND;VALUE=DATE:20250724
DTSTAMP:20260424T183534
CREATED:20240228T021901Z
LAST-MODIFIED:20240228T021928Z
UID:10004476-1753228800-1753315199@trashpandaslkn.com
SUMMARY:South Iron Station - Trash Pick Up
DESCRIPTION:Wednesday: Trash Pick Up for South Iron Station Residents\n 
URL:https://trashpandaslkn.com/schedule/south-iron-station-trash-pick-up-2/2025-07-23/
CATEGORIES:Black Zone
END:VEVENT
BEGIN:VEVENT
DTSTART;VALUE=DATE:20250730
DTEND;VALUE=DATE:20250731
DTSTAMP:20260424T183534
CREATED:20240228T021901Z
LAST-MODIFIED:20240228T021928Z
UID:10004477-1753833600-1753919999@trashpandaslkn.com
SUMMARY:South Iron Station - Trash Pick Up
DESCRIPTION:Wednesday: Trash Pick Up for South Iron Station Residents\n 
URL:https://trashpandaslkn.com/schedule/south-iron-station-trash-pick-up-2/2025-07-30/
CATEGORIES:Black Zone
END:VEVENT
END:VCALENDAR