BEGIN:VCALENDAR
VERSION:2.0
PRODID:-//Trash Pandas LKN - ECPv6.15.20//NONSGML v1.0//EN
CALSCALE:GREGORIAN
METHOD:PUBLISH
X-WR-CALNAME:Trash Pandas LKN
X-ORIGINAL-URL:https://trashpandaslkn.com
X-WR-CALDESC:Events for Trash Pandas LKN
REFRESH-INTERVAL;VALUE=DURATION:PT1H
X-Robots-Tag:noindex
X-PUBLISHED-TTL:PT1H
BEGIN:VTIMEZONE
TZID:America/New_York
BEGIN:DAYLIGHT
TZOFFSETFROM:-0500
TZOFFSETTO:-0400
TZNAME:EDT
DTSTART:20240310T070000
END:DAYLIGHT
BEGIN:STANDARD
TZOFFSETFROM:-0400
TZOFFSETTO:-0500
TZNAME:EST
DTSTART:20241103T060000
END:STANDARD
BEGIN:DAYLIGHT
TZOFFSETFROM:-0500
TZOFFSETTO:-0400
TZNAME:EDT
DTSTART:20250309T070000
END:DAYLIGHT
BEGIN:STANDARD
TZOFFSETFROM:-0400
TZOFFSETTO:-0500
TZNAME:EST
DTSTART:20251102T060000
END:STANDARD
BEGIN:DAYLIGHT
TZOFFSETFROM:-0500
TZOFFSETTO:-0400
TZNAME:EDT
DTSTART:20260308T070000
END:DAYLIGHT
BEGIN:STANDARD
TZOFFSETFROM:-0400
TZOFFSETTO:-0500
TZNAME:EST
DTSTART:20261101T060000
END:STANDARD
END:VTIMEZONE
BEGIN:VEVENT
DTSTART;VALUE=DATE:20251203
DTEND;VALUE=DATE:20251204
DTSTAMP:20260424T122907
CREATED:20240228T021901Z
LAST-MODIFIED:20240228T021928Z
UID:10004495-1764720000-1764806399@trashpandaslkn.com
SUMMARY:South Iron Station - Trash Pick Up
DESCRIPTION:Wednesday: Trash Pick Up for South Iron Station Residents\n 
URL:https://trashpandaslkn.com/schedule/south-iron-station-trash-pick-up-2/2025-12-03/
CATEGORIES:Black Zone
END:VEVENT
BEGIN:VEVENT
DTSTART;VALUE=DATE:20251210
DTEND;VALUE=DATE:20251211
DTSTAMP:20260424T122907
CREATED:20240228T021901Z
LAST-MODIFIED:20240228T021928Z
UID:10004496-1765324800-1765411199@trashpandaslkn.com
SUMMARY:South Iron Station - Trash Pick Up
DESCRIPTION:Wednesday: Trash Pick Up for South Iron Station Residents\n 
URL:https://trashpandaslkn.com/schedule/south-iron-station-trash-pick-up-2/2025-12-10/
CATEGORIES:Black Zone
END:VEVENT
BEGIN:VEVENT
DTSTART;VALUE=DATE:20251217
DTEND;VALUE=DATE:20251218
DTSTAMP:20260424T122907
CREATED:20240228T021901Z
LAST-MODIFIED:20240228T021928Z
UID:10004497-1765929600-1766015999@trashpandaslkn.com
SUMMARY:South Iron Station - Trash Pick Up
DESCRIPTION:Wednesday: Trash Pick Up for South Iron Station Residents\n 
URL:https://trashpandaslkn.com/schedule/south-iron-station-trash-pick-up-2/2025-12-17/
CATEGORIES:Black Zone
END:VEVENT
BEGIN:VEVENT
DTSTART;VALUE=DATE:20251224
DTEND;VALUE=DATE:20251225
DTSTAMP:20260424T122907
CREATED:20240228T021901Z
LAST-MODIFIED:20240228T021928Z
UID:10004498-1766534400-1766620799@trashpandaslkn.com
SUMMARY:South Iron Station - Trash Pick Up
DESCRIPTION:Wednesday: Trash Pick Up for South Iron Station Residents\n 
URL:https://trashpandaslkn.com/schedule/south-iron-station-trash-pick-up-2/2025-12-24/
CATEGORIES:Black Zone
END:VEVENT
BEGIN:VEVENT
DTSTART;VALUE=DATE:20251231
DTEND;VALUE=DATE:20260101
DTSTAMP:20260424T122907
CREATED:20240228T021901Z
LAST-MODIFIED:20240228T021928Z
UID:10004499-1767139200-1767225599@trashpandaslkn.com
SUMMARY:South Iron Station - Trash Pick Up
DESCRIPTION:Wednesday: Trash Pick Up for South Iron Station Residents\n 
URL:https://trashpandaslkn.com/schedule/south-iron-station-trash-pick-up-2/2025-12-31/
CATEGORIES:Black Zone
END:VEVENT
END:VCALENDAR