BEGIN:VCALENDAR
VERSION:2.0
PRODID:-//Trash Pandas LKN - ECPv6.15.20//NONSGML v1.0//EN
CALSCALE:GREGORIAN
METHOD:PUBLISH
X-ORIGINAL-URL:https://trashpandaslkn.com
X-WR-CALDESC:Events for Trash Pandas LKN
REFRESH-INTERVAL;VALUE=DURATION:PT1H
X-Robots-Tag:noindex
X-PUBLISHED-TTL:PT1H
BEGIN:VTIMEZONE
TZID:America/New_York
BEGIN:DAYLIGHT
TZOFFSETFROM:-0500
TZOFFSETTO:-0400
TZNAME:EDT
DTSTART:20250309T070000
END:DAYLIGHT
BEGIN:STANDARD
TZOFFSETFROM:-0400
TZOFFSETTO:-0500
TZNAME:EST
DTSTART:20251102T060000
END:STANDARD
BEGIN:DAYLIGHT
TZOFFSETFROM:-0500
TZOFFSETTO:-0400
TZNAME:EDT
DTSTART:20260308T070000
END:DAYLIGHT
BEGIN:STANDARD
TZOFFSETFROM:-0400
TZOFFSETTO:-0500
TZNAME:EST
DTSTART:20261101T060000
END:STANDARD
BEGIN:DAYLIGHT
TZOFFSETFROM:-0500
TZOFFSETTO:-0400
TZNAME:EDT
DTSTART:20270314T070000
END:DAYLIGHT
BEGIN:STANDARD
TZOFFSETFROM:-0400
TZOFFSETTO:-0500
TZNAME:EST
DTSTART:20271107T060000
END:STANDARD
END:VTIMEZONE
BEGIN:VEVENT
DTSTART;VALUE=DATE:20260506
DTEND;VALUE=DATE:20260507
DTSTAMP:20260423T151811
CREATED:20240228T021901Z
LAST-MODIFIED:20240228T021928Z
UID:10004517-1778025600-1778111999@trashpandaslkn.com
SUMMARY:South Iron Station - Trash Pick Up
DESCRIPTION:Wednesday: Trash Pick Up for South Iron Station Residents\n 
URL:https://trashpandaslkn.com/schedule/south-iron-station-trash-pick-up-2/2026-05-06/
CATEGORIES:Black Zone
END:VEVENT
BEGIN:VEVENT
DTSTART;VALUE=DATE:20260513
DTEND;VALUE=DATE:20260514
DTSTAMP:20260423T151811
CREATED:20240228T021901Z
LAST-MODIFIED:20240228T021928Z
UID:10004518-1778630400-1778716799@trashpandaslkn.com
SUMMARY:South Iron Station - Trash Pick Up
DESCRIPTION:Wednesday: Trash Pick Up for South Iron Station Residents\n 
URL:https://trashpandaslkn.com/schedule/south-iron-station-trash-pick-up-2/2026-05-13/
CATEGORIES:Black Zone
END:VEVENT
BEGIN:VEVENT
DTSTART;VALUE=DATE:20260520
DTEND;VALUE=DATE:20260521
DTSTAMP:20260423T151811
CREATED:20240228T021901Z
LAST-MODIFIED:20240228T021928Z
UID:10004519-1779235200-1779321599@trashpandaslkn.com
SUMMARY:South Iron Station - Trash Pick Up
DESCRIPTION:Wednesday: Trash Pick Up for South Iron Station Residents\n 
URL:https://trashpandaslkn.com/schedule/south-iron-station-trash-pick-up-2/2026-05-20/
CATEGORIES:Black Zone
END:VEVENT
BEGIN:VEVENT
DTSTART;VALUE=DATE:20260527
DTEND;VALUE=DATE:20260528
DTSTAMP:20260423T151811
CREATED:20240228T021901Z
LAST-MODIFIED:20240228T021928Z
UID:10004520-1779840000-1779926399@trashpandaslkn.com
SUMMARY:South Iron Station - Trash Pick Up
DESCRIPTION:Wednesday: Trash Pick Up for South Iron Station Residents\n 
URL:https://trashpandaslkn.com/schedule/south-iron-station-trash-pick-up-2/2026-05-27/
CATEGORIES:Black Zone
END:VEVENT
END:VCALENDAR