BEGIN:VCALENDAR
VERSION:2.0
PRODID:-//Trash Pandas LKN - ECPv6.15.20//NONSGML v1.0//EN
CALSCALE:GREGORIAN
METHOD:PUBLISH
X-WR-CALNAME:Trash Pandas LKN
X-ORIGINAL-URL:https://trashpandaslkn.com
X-WR-CALDESC:Events for Trash Pandas LKN
REFRESH-INTERVAL;VALUE=DURATION:PT1H
X-Robots-Tag:noindex
X-PUBLISHED-TTL:PT1H
BEGIN:VTIMEZONE
TZID:America/New_York
BEGIN:DAYLIGHT
TZOFFSETFROM:-0500
TZOFFSETTO:-0400
TZNAME:EDT
DTSTART:20250309T070000
END:DAYLIGHT
BEGIN:STANDARD
TZOFFSETFROM:-0400
TZOFFSETTO:-0500
TZNAME:EST
DTSTART:20251102T060000
END:STANDARD
BEGIN:DAYLIGHT
TZOFFSETFROM:-0500
TZOFFSETTO:-0400
TZNAME:EDT
DTSTART:20260308T070000
END:DAYLIGHT
BEGIN:STANDARD
TZOFFSETFROM:-0400
TZOFFSETTO:-0500
TZNAME:EST
DTSTART:20261101T060000
END:STANDARD
BEGIN:DAYLIGHT
TZOFFSETFROM:-0500
TZOFFSETTO:-0400
TZNAME:EDT
DTSTART:20270314T070000
END:DAYLIGHT
BEGIN:STANDARD
TZOFFSETFROM:-0400
TZOFFSETTO:-0500
TZNAME:EST
DTSTART:20271107T060000
END:STANDARD
END:VTIMEZONE
BEGIN:VEVENT
DTSTART;VALUE=DATE:20260805
DTEND;VALUE=DATE:20260806
DTSTAMP:20260424T000732
CREATED:20240228T021901Z
LAST-MODIFIED:20240228T021928Z
UID:10004530-1785888000-1785974399@trashpandaslkn.com
SUMMARY:South Iron Station - Trash Pick Up
DESCRIPTION:Wednesday: Trash Pick Up for South Iron Station Residents\n 
URL:https://trashpandaslkn.com/schedule/south-iron-station-trash-pick-up-2/2026-08-05/
CATEGORIES:Black Zone
END:VEVENT
BEGIN:VEVENT
DTSTART;VALUE=DATE:20260812
DTEND;VALUE=DATE:20260813
DTSTAMP:20260424T000732
CREATED:20240228T021901Z
LAST-MODIFIED:20240228T021928Z
UID:10004531-1786492800-1786579199@trashpandaslkn.com
SUMMARY:South Iron Station - Trash Pick Up
DESCRIPTION:Wednesday: Trash Pick Up for South Iron Station Residents\n 
URL:https://trashpandaslkn.com/schedule/south-iron-station-trash-pick-up-2/2026-08-12/
CATEGORIES:Black Zone
END:VEVENT
BEGIN:VEVENT
DTSTART;VALUE=DATE:20260819
DTEND;VALUE=DATE:20260820
DTSTAMP:20260424T000732
CREATED:20240228T021901Z
LAST-MODIFIED:20240228T021928Z
UID:10004532-1787097600-1787183999@trashpandaslkn.com
SUMMARY:South Iron Station - Trash Pick Up
DESCRIPTION:Wednesday: Trash Pick Up for South Iron Station Residents\n 
URL:https://trashpandaslkn.com/schedule/south-iron-station-trash-pick-up-2/2026-08-19/
CATEGORIES:Black Zone
END:VEVENT
BEGIN:VEVENT
DTSTART;VALUE=DATE:20260826
DTEND;VALUE=DATE:20260827
DTSTAMP:20260424T000732
CREATED:20240228T021901Z
LAST-MODIFIED:20240228T021928Z
UID:10004533-1787702400-1787788799@trashpandaslkn.com
SUMMARY:South Iron Station - Trash Pick Up
DESCRIPTION:Wednesday: Trash Pick Up for South Iron Station Residents\n 
URL:https://trashpandaslkn.com/schedule/south-iron-station-trash-pick-up-2/2026-08-26/
CATEGORIES:Black Zone
END:VEVENT
END:VCALENDAR