BEGIN:VCALENDAR
VERSION:2.0
PRODID:-//Trash Pandas LKN - ECPv6.15.20//NONSGML v1.0//EN
CALSCALE:GREGORIAN
METHOD:PUBLISH
X-ORIGINAL-URL:https://trashpandaslkn.com
X-WR-CALDESC:Events for Trash Pandas LKN
REFRESH-INTERVAL;VALUE=DURATION:PT1H
X-Robots-Tag:noindex
X-PUBLISHED-TTL:PT1H
BEGIN:VTIMEZONE
TZID:America/New_York
BEGIN:DAYLIGHT
TZOFFSETFROM:-0500
TZOFFSETTO:-0400
TZNAME:EDT
DTSTART:20250309T070000
END:DAYLIGHT
BEGIN:STANDARD
TZOFFSETFROM:-0400
TZOFFSETTO:-0500
TZNAME:EST
DTSTART:20251102T060000
END:STANDARD
BEGIN:DAYLIGHT
TZOFFSETFROM:-0500
TZOFFSETTO:-0400
TZNAME:EDT
DTSTART:20260308T070000
END:DAYLIGHT
BEGIN:STANDARD
TZOFFSETFROM:-0400
TZOFFSETTO:-0500
TZNAME:EST
DTSTART:20261101T060000
END:STANDARD
BEGIN:DAYLIGHT
TZOFFSETFROM:-0500
TZOFFSETTO:-0400
TZNAME:EDT
DTSTART:20270314T070000
END:DAYLIGHT
BEGIN:STANDARD
TZOFFSETFROM:-0400
TZOFFSETTO:-0500
TZNAME:EST
DTSTART:20271107T060000
END:STANDARD
END:VTIMEZONE
BEGIN:VEVENT
DTSTART;VALUE=DATE:20261202
DTEND;VALUE=DATE:20261203
DTSTAMP:20260424T105310
CREATED:20240228T021901Z
LAST-MODIFIED:20240228T021928Z
UID:10004547-1796169600-1796255999@trashpandaslkn.com
SUMMARY:South Iron Station - Trash Pick Up
DESCRIPTION:Wednesday: Trash Pick Up for South Iron Station Residents\n 
URL:https://trashpandaslkn.com/schedule/south-iron-station-trash-pick-up-2/2026-12-02/
CATEGORIES:Black Zone
END:VEVENT
BEGIN:VEVENT
DTSTART;VALUE=DATE:20261209
DTEND;VALUE=DATE:20261210
DTSTAMP:20260424T105310
CREATED:20240228T021901Z
LAST-MODIFIED:20240228T021928Z
UID:10004548-1796774400-1796860799@trashpandaslkn.com
SUMMARY:South Iron Station - Trash Pick Up
DESCRIPTION:Wednesday: Trash Pick Up for South Iron Station Residents\n 
URL:https://trashpandaslkn.com/schedule/south-iron-station-trash-pick-up-2/2026-12-09/
CATEGORIES:Black Zone
END:VEVENT
BEGIN:VEVENT
DTSTART;VALUE=DATE:20261216
DTEND;VALUE=DATE:20261217
DTSTAMP:20260424T105310
CREATED:20240228T021901Z
LAST-MODIFIED:20240228T021928Z
UID:10004549-1797379200-1797465599@trashpandaslkn.com
SUMMARY:South Iron Station - Trash Pick Up
DESCRIPTION:Wednesday: Trash Pick Up for South Iron Station Residents\n 
URL:https://trashpandaslkn.com/schedule/south-iron-station-trash-pick-up-2/2026-12-16/
CATEGORIES:Black Zone
END:VEVENT
BEGIN:VEVENT
DTSTART;VALUE=DATE:20261223
DTEND;VALUE=DATE:20261224
DTSTAMP:20260424T105310
CREATED:20240228T021901Z
LAST-MODIFIED:20240228T021928Z
UID:10004550-1797984000-1798070399@trashpandaslkn.com
SUMMARY:South Iron Station - Trash Pick Up
DESCRIPTION:Wednesday: Trash Pick Up for South Iron Station Residents\n 
URL:https://trashpandaslkn.com/schedule/south-iron-station-trash-pick-up-2/2026-12-23/
CATEGORIES:Black Zone
END:VEVENT
BEGIN:VEVENT
DTSTART;VALUE=DATE:20261230
DTEND;VALUE=DATE:20261231
DTSTAMP:20260424T105310
CREATED:20240228T021901Z
LAST-MODIFIED:20240228T021928Z
UID:10004551-1798588800-1798675199@trashpandaslkn.com
SUMMARY:South Iron Station - Trash Pick Up
DESCRIPTION:Wednesday: Trash Pick Up for South Iron Station Residents\n 
URL:https://trashpandaslkn.com/schedule/south-iron-station-trash-pick-up-2/2026-12-30/
CATEGORIES:Black Zone
END:VEVENT
END:VCALENDAR