BEGIN:VCALENDAR
VERSION:2.0
PRODID:-//Trash Pandas LKN - ECPv6.15.20//NONSGML v1.0//EN
CALSCALE:GREGORIAN
METHOD:PUBLISH
X-WR-CALNAME:Trash Pandas LKN
X-ORIGINAL-URL:https://trashpandaslkn.com
X-WR-CALDESC:Events for Trash Pandas LKN
REFRESH-INTERVAL;VALUE=DURATION:PT1H
X-Robots-Tag:noindex
X-PUBLISHED-TTL:PT1H
BEGIN:VTIMEZONE
TZID:America/New_York
BEGIN:DAYLIGHT
TZOFFSETFROM:-0500
TZOFFSETTO:-0400
TZNAME:EDT
DTSTART:20250309T070000
END:DAYLIGHT
BEGIN:STANDARD
TZOFFSETFROM:-0400
TZOFFSETTO:-0500
TZNAME:EST
DTSTART:20251102T060000
END:STANDARD
BEGIN:DAYLIGHT
TZOFFSETFROM:-0500
TZOFFSETTO:-0400
TZNAME:EDT
DTSTART:20260308T070000
END:DAYLIGHT
BEGIN:STANDARD
TZOFFSETFROM:-0400
TZOFFSETTO:-0500
TZNAME:EST
DTSTART:20261101T060000
END:STANDARD
BEGIN:DAYLIGHT
TZOFFSETFROM:-0500
TZOFFSETTO:-0400
TZNAME:EDT
DTSTART:20270314T070000
END:DAYLIGHT
BEGIN:STANDARD
TZOFFSETFROM:-0400
TZOFFSETTO:-0500
TZNAME:EST
DTSTART:20271107T060000
END:STANDARD
END:VTIMEZONE
BEGIN:VEVENT
DTSTART;VALUE=DATE:20260303
DTEND;VALUE=DATE:20260304
DTSTAMP:20260420T151656
CREATED:20240227T230406Z
LAST-MODIFIED:20240228T010943Z
UID:10002678-1772496000-1772582399@trashpandaslkn.com
SUMMARY:North Iron Station - Trash Pick Up
DESCRIPTION:Tuesday: Trash Pick Up for North Iron Station Residents
URL:https://trashpandaslkn.com/schedule/north-iron-station-trash-pick-up/2026-03-03/
CATEGORIES:Pink Zone
END:VEVENT
BEGIN:VEVENT
DTSTART;VALUE=DATE:20260303
DTEND;VALUE=DATE:20260304
DTSTAMP:20260420T151656
CREATED:20240227T231316Z
LAST-MODIFIED:20240228T011308Z
UID:10002940-1772496000-1772582399@trashpandaslkn.com
SUMMARY:Maiden (Lincoln County ONLY) - Trash Pick Up
DESCRIPTION:Tuesday: Trash Pick Up for Maiden ( Lincoln County ONLY ) Residents\n 
URL:https://trashpandaslkn.com/schedule/maiden-lincoln-county-only-trash-pick-up/2026-03-03/
CATEGORIES:Pink Zone
END:VEVENT
BEGIN:VEVENT
DTSTART;VALUE=DATE:20260310
DTEND;VALUE=DATE:20260311
DTSTAMP:20260420T151656
CREATED:20240227T230406Z
LAST-MODIFIED:20240228T010943Z
UID:10002679-1773100800-1773187199@trashpandaslkn.com
SUMMARY:North Iron Station - Trash Pick Up
DESCRIPTION:Tuesday: Trash Pick Up for North Iron Station Residents
URL:https://trashpandaslkn.com/schedule/north-iron-station-trash-pick-up/2026-03-10/
CATEGORIES:Pink Zone
END:VEVENT
BEGIN:VEVENT
DTSTART;VALUE=DATE:20260310
DTEND;VALUE=DATE:20260311
DTSTAMP:20260420T151656
CREATED:20240227T231316Z
LAST-MODIFIED:20240228T011308Z
UID:10002941-1773100800-1773187199@trashpandaslkn.com
SUMMARY:Maiden (Lincoln County ONLY) - Trash Pick Up
DESCRIPTION:Tuesday: Trash Pick Up for Maiden ( Lincoln County ONLY ) Residents\n 
URL:https://trashpandaslkn.com/schedule/maiden-lincoln-county-only-trash-pick-up/2026-03-10/
CATEGORIES:Pink Zone
END:VEVENT
BEGIN:VEVENT
DTSTART;VALUE=DATE:20260317
DTEND;VALUE=DATE:20260318
DTSTAMP:20260420T151656
CREATED:20240227T230406Z
LAST-MODIFIED:20240228T010943Z
UID:10002680-1773705600-1773791999@trashpandaslkn.com
SUMMARY:North Iron Station - Trash Pick Up
DESCRIPTION:Tuesday: Trash Pick Up for North Iron Station Residents
URL:https://trashpandaslkn.com/schedule/north-iron-station-trash-pick-up/2026-03-17/
CATEGORIES:Pink Zone
END:VEVENT
BEGIN:VEVENT
DTSTART;VALUE=DATE:20260317
DTEND;VALUE=DATE:20260318
DTSTAMP:20260420T151656
CREATED:20240227T231316Z
LAST-MODIFIED:20240228T011308Z
UID:10002942-1773705600-1773791999@trashpandaslkn.com
SUMMARY:Maiden (Lincoln County ONLY) - Trash Pick Up
DESCRIPTION:Tuesday: Trash Pick Up for Maiden ( Lincoln County ONLY ) Residents\n 
URL:https://trashpandaslkn.com/schedule/maiden-lincoln-county-only-trash-pick-up/2026-03-17/
CATEGORIES:Pink Zone
END:VEVENT
BEGIN:VEVENT
DTSTART;VALUE=DATE:20260324
DTEND;VALUE=DATE:20260325
DTSTAMP:20260420T151656
CREATED:20240227T230406Z
LAST-MODIFIED:20240228T010943Z
UID:10002681-1774310400-1774396799@trashpandaslkn.com
SUMMARY:North Iron Station - Trash Pick Up
DESCRIPTION:Tuesday: Trash Pick Up for North Iron Station Residents
URL:https://trashpandaslkn.com/schedule/north-iron-station-trash-pick-up/2026-03-24/
CATEGORIES:Pink Zone
END:VEVENT
BEGIN:VEVENT
DTSTART;VALUE=DATE:20260324
DTEND;VALUE=DATE:20260325
DTSTAMP:20260420T151656
CREATED:20240227T231316Z
LAST-MODIFIED:20240228T011308Z
UID:10002943-1774310400-1774396799@trashpandaslkn.com
SUMMARY:Maiden (Lincoln County ONLY) - Trash Pick Up
DESCRIPTION:Tuesday: Trash Pick Up for Maiden ( Lincoln County ONLY ) Residents\n 
URL:https://trashpandaslkn.com/schedule/maiden-lincoln-county-only-trash-pick-up/2026-03-24/
CATEGORIES:Pink Zone
END:VEVENT
BEGIN:VEVENT
DTSTART;VALUE=DATE:20260331
DTEND;VALUE=DATE:20260401
DTSTAMP:20260420T151656
CREATED:20240227T230406Z
LAST-MODIFIED:20240228T010943Z
UID:10002682-1774915200-1775001599@trashpandaslkn.com
SUMMARY:North Iron Station - Trash Pick Up
DESCRIPTION:Tuesday: Trash Pick Up for North Iron Station Residents
URL:https://trashpandaslkn.com/schedule/north-iron-station-trash-pick-up/2026-03-31/
CATEGORIES:Pink Zone
END:VEVENT
BEGIN:VEVENT
DTSTART;VALUE=DATE:20260331
DTEND;VALUE=DATE:20260401
DTSTAMP:20260420T151656
CREATED:20240227T231316Z
LAST-MODIFIED:20240228T011308Z
UID:10002944-1774915200-1775001599@trashpandaslkn.com
SUMMARY:Maiden (Lincoln County ONLY) - Trash Pick Up
DESCRIPTION:Tuesday: Trash Pick Up for Maiden ( Lincoln County ONLY ) Residents\n 
URL:https://trashpandaslkn.com/schedule/maiden-lincoln-county-only-trash-pick-up/2026-03-31/
CATEGORIES:Pink Zone
END:VEVENT
END:VCALENDAR