BEGIN:VCALENDAR
VERSION:2.0
PRODID:-//Trash Pandas LKN - ECPv6.15.20//NONSGML v1.0//EN
CALSCALE:GREGORIAN
METHOD:PUBLISH
X-ORIGINAL-URL:https://trashpandaslkn.com
X-WR-CALDESC:Events for Trash Pandas LKN
REFRESH-INTERVAL;VALUE=DURATION:PT1H
X-Robots-Tag:noindex
X-PUBLISHED-TTL:PT1H
BEGIN:VTIMEZONE
TZID:America/New_York
BEGIN:DAYLIGHT
TZOFFSETFROM:-0500
TZOFFSETTO:-0400
TZNAME:EDT
DTSTART:20260308T070000
END:DAYLIGHT
BEGIN:STANDARD
TZOFFSETFROM:-0400
TZOFFSETTO:-0500
TZNAME:EST
DTSTART:20261101T060000
END:STANDARD
BEGIN:DAYLIGHT
TZOFFSETFROM:-0500
TZOFFSETTO:-0400
TZNAME:EDT
DTSTART:20270314T070000
END:DAYLIGHT
BEGIN:STANDARD
TZOFFSETFROM:-0400
TZOFFSETTO:-0500
TZNAME:EST
DTSTART:20271107T060000
END:STANDARD
BEGIN:DAYLIGHT
TZOFFSETFROM:-0500
TZOFFSETTO:-0400
TZNAME:EDT
DTSTART:20280312T070000
END:DAYLIGHT
BEGIN:STANDARD
TZOFFSETFROM:-0400
TZOFFSETTO:-0500
TZNAME:EST
DTSTART:20281105T060000
END:STANDARD
END:VTIMEZONE
BEGIN:VEVENT
DTSTART;VALUE=DATE:20270302
DTEND;VALUE=DATE:20270303
DTSTAMP:20260425T180857
CREATED:20240227T230406Z
LAST-MODIFIED:20240228T010943Z
UID:10002730-1803945600-1804031999@trashpandaslkn.com
SUMMARY:North Iron Station - Trash Pick Up
DESCRIPTION:Tuesday: Trash Pick Up for North Iron Station Residents
URL:https://trashpandaslkn.com/schedule/north-iron-station-trash-pick-up/2027-03-02/
CATEGORIES:Pink Zone
END:VEVENT
BEGIN:VEVENT
DTSTART;VALUE=DATE:20270302
DTEND;VALUE=DATE:20270303
DTSTAMP:20260425T180857
CREATED:20240227T231316Z
LAST-MODIFIED:20240228T011308Z
UID:10002992-1803945600-1804031999@trashpandaslkn.com
SUMMARY:Maiden (Lincoln County ONLY) - Trash Pick Up
DESCRIPTION:Tuesday: Trash Pick Up for Maiden ( Lincoln County ONLY ) Residents\n 
URL:https://trashpandaslkn.com/schedule/maiden-lincoln-county-only-trash-pick-up/2027-03-02/
CATEGORIES:Pink Zone
END:VEVENT
BEGIN:VEVENT
DTSTART;VALUE=DATE:20270309
DTEND;VALUE=DATE:20270310
DTSTAMP:20260425T180857
CREATED:20240227T230406Z
LAST-MODIFIED:20240228T010943Z
UID:10002731-1804550400-1804636799@trashpandaslkn.com
SUMMARY:North Iron Station - Trash Pick Up
DESCRIPTION:Tuesday: Trash Pick Up for North Iron Station Residents
URL:https://trashpandaslkn.com/schedule/north-iron-station-trash-pick-up/2027-03-09/
CATEGORIES:Pink Zone
END:VEVENT
BEGIN:VEVENT
DTSTART;VALUE=DATE:20270309
DTEND;VALUE=DATE:20270310
DTSTAMP:20260425T180857
CREATED:20240227T231316Z
LAST-MODIFIED:20240228T011308Z
UID:10002993-1804550400-1804636799@trashpandaslkn.com
SUMMARY:Maiden (Lincoln County ONLY) - Trash Pick Up
DESCRIPTION:Tuesday: Trash Pick Up for Maiden ( Lincoln County ONLY ) Residents\n 
URL:https://trashpandaslkn.com/schedule/maiden-lincoln-county-only-trash-pick-up/2027-03-09/
CATEGORIES:Pink Zone
END:VEVENT
BEGIN:VEVENT
DTSTART;VALUE=DATE:20270316
DTEND;VALUE=DATE:20270317
DTSTAMP:20260425T180857
CREATED:20240227T230406Z
LAST-MODIFIED:20240228T010943Z
UID:10002732-1805155200-1805241599@trashpandaslkn.com
SUMMARY:North Iron Station - Trash Pick Up
DESCRIPTION:Tuesday: Trash Pick Up for North Iron Station Residents
URL:https://trashpandaslkn.com/schedule/north-iron-station-trash-pick-up/2027-03-16/
CATEGORIES:Pink Zone
END:VEVENT
BEGIN:VEVENT
DTSTART;VALUE=DATE:20270316
DTEND;VALUE=DATE:20270317
DTSTAMP:20260425T180857
CREATED:20240227T231316Z
LAST-MODIFIED:20240228T011308Z
UID:10002994-1805155200-1805241599@trashpandaslkn.com
SUMMARY:Maiden (Lincoln County ONLY) - Trash Pick Up
DESCRIPTION:Tuesday: Trash Pick Up for Maiden ( Lincoln County ONLY ) Residents\n 
URL:https://trashpandaslkn.com/schedule/maiden-lincoln-county-only-trash-pick-up/2027-03-16/
CATEGORIES:Pink Zone
END:VEVENT
BEGIN:VEVENT
DTSTART;VALUE=DATE:20270323
DTEND;VALUE=DATE:20270324
DTSTAMP:20260425T180857
CREATED:20240227T230406Z
LAST-MODIFIED:20240228T010943Z
UID:10002733-1805760000-1805846399@trashpandaslkn.com
SUMMARY:North Iron Station - Trash Pick Up
DESCRIPTION:Tuesday: Trash Pick Up for North Iron Station Residents
URL:https://trashpandaslkn.com/schedule/north-iron-station-trash-pick-up/2027-03-23/
CATEGORIES:Pink Zone
END:VEVENT
BEGIN:VEVENT
DTSTART;VALUE=DATE:20270323
DTEND;VALUE=DATE:20270324
DTSTAMP:20260425T180857
CREATED:20240227T231316Z
LAST-MODIFIED:20240228T011308Z
UID:10002995-1805760000-1805846399@trashpandaslkn.com
SUMMARY:Maiden (Lincoln County ONLY) - Trash Pick Up
DESCRIPTION:Tuesday: Trash Pick Up for Maiden ( Lincoln County ONLY ) Residents\n 
URL:https://trashpandaslkn.com/schedule/maiden-lincoln-county-only-trash-pick-up/2027-03-23/
CATEGORIES:Pink Zone
END:VEVENT
BEGIN:VEVENT
DTSTART;VALUE=DATE:20270330
DTEND;VALUE=DATE:20270331
DTSTAMP:20260425T180857
CREATED:20240227T230406Z
LAST-MODIFIED:20240228T010943Z
UID:10002734-1806364800-1806451199@trashpandaslkn.com
SUMMARY:North Iron Station - Trash Pick Up
DESCRIPTION:Tuesday: Trash Pick Up for North Iron Station Residents
URL:https://trashpandaslkn.com/schedule/north-iron-station-trash-pick-up/2027-03-30/
CATEGORIES:Pink Zone
END:VEVENT
BEGIN:VEVENT
DTSTART;VALUE=DATE:20270330
DTEND;VALUE=DATE:20270331
DTSTAMP:20260425T180857
CREATED:20240227T231316Z
LAST-MODIFIED:20240228T011308Z
UID:10002996-1806364800-1806451199@trashpandaslkn.com
SUMMARY:Maiden (Lincoln County ONLY) - Trash Pick Up
DESCRIPTION:Tuesday: Trash Pick Up for Maiden ( Lincoln County ONLY ) Residents\n 
URL:https://trashpandaslkn.com/schedule/maiden-lincoln-county-only-trash-pick-up/2027-03-30/
CATEGORIES:Pink Zone
END:VEVENT
END:VCALENDAR