BEGIN:VCALENDAR
VERSION:2.0
PRODID:-//Trash Pandas LKN - ECPv6.15.20//NONSGML v1.0//EN
CALSCALE:GREGORIAN
METHOD:PUBLISH
X-ORIGINAL-URL:https://trashpandaslkn.com
X-WR-CALDESC:Events for Trash Pandas LKN
REFRESH-INTERVAL;VALUE=DURATION:PT1H
X-Robots-Tag:noindex
X-PUBLISHED-TTL:PT1H
BEGIN:VTIMEZONE
TZID:UTC
BEGIN:STANDARD
TZOFFSETFROM:+0000
TZOFFSETTO:+0000
TZNAME:UTC
DTSTART:20230101T000000
END:STANDARD
END:VTIMEZONE
BEGIN:VEVENT
DTSTART;VALUE=DATE:20240819
DTEND;VALUE=DATE:20240824
DTSTAMP:20260419T182549
CREATED:20240228T020541Z
LAST-MODIFIED:20240228T005419Z
UID:10000624-1724025600-1724457599@trashpandaslkn.com
SUMMARY:Recycling Pick Up
DESCRIPTION:
URL:https://trashpandaslkn.com/schedule/recycling-pick-up/2024-08-19/
CATEGORIES:Recycling Pick Up
END:VEVENT
BEGIN:VEVENT
DTSTART;VALUE=DATE:20240902
DTEND;VALUE=DATE:20240907
DTSTAMP:20260419T182549
CREATED:20240228T020541Z
LAST-MODIFIED:20240228T005419Z
UID:10000625-1725235200-1725667199@trashpandaslkn.com
SUMMARY:Recycling Pick Up
DESCRIPTION:
URL:https://trashpandaslkn.com/schedule/recycling-pick-up/2024-09-02/
CATEGORIES:Recycling Pick Up
END:VEVENT
BEGIN:VEVENT
DTSTART;VALUE=DATE:20240916
DTEND;VALUE=DATE:20240921
DTSTAMP:20260419T182549
CREATED:20240228T020541Z
LAST-MODIFIED:20240228T005419Z
UID:10000626-1726444800-1726876799@trashpandaslkn.com
SUMMARY:Recycling Pick Up
DESCRIPTION:
URL:https://trashpandaslkn.com/schedule/recycling-pick-up/2024-09-16/
CATEGORIES:Recycling Pick Up
END:VEVENT
BEGIN:VEVENT
DTSTART;VALUE=DATE:20240930
DTEND;VALUE=DATE:20241005
DTSTAMP:20260419T182549
CREATED:20240228T020541Z
LAST-MODIFIED:20240228T005419Z
UID:10000627-1727654400-1728086399@trashpandaslkn.com
SUMMARY:Recycling Pick Up
DESCRIPTION:
URL:https://trashpandaslkn.com/schedule/recycling-pick-up/2024-09-30/
CATEGORIES:Recycling Pick Up
END:VEVENT
BEGIN:VEVENT
DTSTART;VALUE=DATE:20241014
DTEND;VALUE=DATE:20241019
DTSTAMP:20260419T182549
CREATED:20240228T020541Z
LAST-MODIFIED:20240228T005419Z
UID:10000628-1728864000-1729295999@trashpandaslkn.com
SUMMARY:Recycling Pick Up
DESCRIPTION:
URL:https://trashpandaslkn.com/schedule/recycling-pick-up/2024-10-14/
CATEGORIES:Recycling Pick Up
END:VEVENT
BEGIN:VEVENT
DTSTART;VALUE=DATE:20241028
DTEND;VALUE=DATE:20241102
DTSTAMP:20260419T182549
CREATED:20240228T020541Z
LAST-MODIFIED:20240228T005419Z
UID:10000629-1730073600-1730505599@trashpandaslkn.com
SUMMARY:Recycling Pick Up
DESCRIPTION:
URL:https://trashpandaslkn.com/schedule/recycling-pick-up/2024-10-28/
CATEGORIES:Recycling Pick Up
END:VEVENT
BEGIN:VEVENT
DTSTART;VALUE=DATE:20241111
DTEND;VALUE=DATE:20241116
DTSTAMP:20260419T182549
CREATED:20240228T020541Z
LAST-MODIFIED:20240228T005419Z
UID:10000630-1731283200-1731715199@trashpandaslkn.com
SUMMARY:Recycling Pick Up
DESCRIPTION:
URL:https://trashpandaslkn.com/schedule/recycling-pick-up/2024-11-11/
CATEGORIES:Recycling Pick Up
END:VEVENT
BEGIN:VEVENT
DTSTART;VALUE=DATE:20241125
DTEND;VALUE=DATE:20241130
DTSTAMP:20260419T182549
CREATED:20240228T020541Z
LAST-MODIFIED:20240228T005419Z
UID:10000631-1732492800-1732924799@trashpandaslkn.com
SUMMARY:Recycling Pick Up
DESCRIPTION:
URL:https://trashpandaslkn.com/schedule/recycling-pick-up/2024-11-25/
CATEGORIES:Recycling Pick Up
END:VEVENT
BEGIN:VEVENT
DTSTART;VALUE=DATE:20241209
DTEND;VALUE=DATE:20241214
DTSTAMP:20260419T182549
CREATED:20240228T020541Z
LAST-MODIFIED:20240228T005419Z
UID:10000632-1733702400-1734134399@trashpandaslkn.com
SUMMARY:Recycling Pick Up
DESCRIPTION:
URL:https://trashpandaslkn.com/schedule/recycling-pick-up/2024-12-09/
CATEGORIES:Recycling Pick Up
END:VEVENT
BEGIN:VEVENT
DTSTART;VALUE=DATE:20241223
DTEND;VALUE=DATE:20241228
DTSTAMP:20260419T182549
CREATED:20240228T020541Z
LAST-MODIFIED:20240228T005419Z
UID:10000633-1734912000-1735343999@trashpandaslkn.com
SUMMARY:Recycling Pick Up
DESCRIPTION:
URL:https://trashpandaslkn.com/schedule/recycling-pick-up/2024-12-23/
CATEGORIES:Recycling Pick Up
END:VEVENT
BEGIN:VEVENT
DTSTART;VALUE=DATE:20260406
DTEND;VALUE=DATE:20260410
DTSTAMP:20260419T182549
CREATED:20250105T171847Z
LAST-MODIFIED:20250105T173245Z
UID:10005139-1775433600-1775779199@trashpandaslkn.com
SUMMARY:Recycling Pick Up
DESCRIPTION:
URL:https://trashpandaslkn.com/schedule/recycling-pick-up-2/2026-04-06/
CATEGORIES:Recycling Pick Up
END:VEVENT
END:VCALENDAR