BEGIN:VCALENDAR
VERSION:2.0
PRODID:-//Trash Pandas LKN - ECPv6.15.20//NONSGML v1.0//EN
CALSCALE:GREGORIAN
METHOD:PUBLISH
X-ORIGINAL-URL:https://trashpandaslkn.com
X-WR-CALDESC:Events for Trash Pandas LKN
REFRESH-INTERVAL;VALUE=DURATION:PT1H
X-Robots-Tag:noindex
X-PUBLISHED-TTL:PT1H
BEGIN:VTIMEZONE
TZID:America/New_York
BEGIN:DAYLIGHT
TZOFFSETFROM:-0500
TZOFFSETTO:-0400
TZNAME:EDT
DTSTART:20240310T070000
END:DAYLIGHT
BEGIN:STANDARD
TZOFFSETFROM:-0400
TZOFFSETTO:-0500
TZNAME:EST
DTSTART:20241103T060000
END:STANDARD
BEGIN:DAYLIGHT
TZOFFSETFROM:-0500
TZOFFSETTO:-0400
TZNAME:EDT
DTSTART:20250309T070000
END:DAYLIGHT
BEGIN:STANDARD
TZOFFSETFROM:-0400
TZOFFSETTO:-0500
TZNAME:EST
DTSTART:20251102T060000
END:STANDARD
BEGIN:DAYLIGHT
TZOFFSETFROM:-0500
TZOFFSETTO:-0400
TZNAME:EDT
DTSTART:20260308T070000
END:DAYLIGHT
BEGIN:STANDARD
TZOFFSETFROM:-0400
TZOFFSETTO:-0500
TZNAME:EST
DTSTART:20261101T060000
END:STANDARD
END:VTIMEZONE
BEGIN:VEVENT
DTSTART;VALUE=DATE:20251002
DTEND;VALUE=DATE:20251003
DTSTAMP:20260424T105259
CREATED:20240227T231907Z
LAST-MODIFIED:20240228T011116Z
UID:10003965-1759363200-1759449599@trashpandaslkn.com
SUMMARY:South Denver - Trash Pick Up
DESCRIPTION:Thursday: Trash Pick Up for South Denver Residents- below Unity Church Road
URL:https://trashpandaslkn.com/schedule/south-denver-trash-pick-up/2025-10-02/
CATEGORIES:Orange Zone
END:VEVENT
BEGIN:VEVENT
DTSTART;VALUE=DATE:20251002
DTEND;VALUE=DATE:20251003
DTSTAMP:20260424T105259
CREATED:20240227T232027Z
LAST-MODIFIED:20240228T011404Z
UID:10004226-1759363200-1759449599@trashpandaslkn.com
SUMMARY:Stanley (Lincoln County ONLY) - Trash Pick Up
DESCRIPTION:Thursday: Trash Pick Up for Stanley ( Lincoln County Only ) Residents
URL:https://trashpandaslkn.com/schedule/stanley-lincoln-county-only-trash-pick-up/2025-10-02/
CATEGORIES:Orange Zone
END:VEVENT
BEGIN:VEVENT
DTSTART;VALUE=DATE:20251009
DTEND;VALUE=DATE:20251010
DTSTAMP:20260424T105259
CREATED:20240227T231907Z
LAST-MODIFIED:20240228T011116Z
UID:10003966-1759968000-1760054399@trashpandaslkn.com
SUMMARY:South Denver - Trash Pick Up
DESCRIPTION:Thursday: Trash Pick Up for South Denver Residents- below Unity Church Road
URL:https://trashpandaslkn.com/schedule/south-denver-trash-pick-up/2025-10-09/
CATEGORIES:Orange Zone
END:VEVENT
BEGIN:VEVENT
DTSTART;VALUE=DATE:20251009
DTEND;VALUE=DATE:20251010
DTSTAMP:20260424T105259
CREATED:20240227T232027Z
LAST-MODIFIED:20240228T011404Z
UID:10004227-1759968000-1760054399@trashpandaslkn.com
SUMMARY:Stanley (Lincoln County ONLY) - Trash Pick Up
DESCRIPTION:Thursday: Trash Pick Up for Stanley ( Lincoln County Only ) Residents
URL:https://trashpandaslkn.com/schedule/stanley-lincoln-county-only-trash-pick-up/2025-10-09/
CATEGORIES:Orange Zone
END:VEVENT
BEGIN:VEVENT
DTSTART;VALUE=DATE:20251016
DTEND;VALUE=DATE:20251017
DTSTAMP:20260424T105259
CREATED:20240227T231907Z
LAST-MODIFIED:20240228T011116Z
UID:10003967-1760572800-1760659199@trashpandaslkn.com
SUMMARY:South Denver - Trash Pick Up
DESCRIPTION:Thursday: Trash Pick Up for South Denver Residents- below Unity Church Road
URL:https://trashpandaslkn.com/schedule/south-denver-trash-pick-up/2025-10-16/
CATEGORIES:Orange Zone
END:VEVENT
BEGIN:VEVENT
DTSTART;VALUE=DATE:20251016
DTEND;VALUE=DATE:20251017
DTSTAMP:20260424T105259
CREATED:20240227T232027Z
LAST-MODIFIED:20240228T011404Z
UID:10004228-1760572800-1760659199@trashpandaslkn.com
SUMMARY:Stanley (Lincoln County ONLY) - Trash Pick Up
DESCRIPTION:Thursday: Trash Pick Up for Stanley ( Lincoln County Only ) Residents
URL:https://trashpandaslkn.com/schedule/stanley-lincoln-county-only-trash-pick-up/2025-10-16/
CATEGORIES:Orange Zone
END:VEVENT
BEGIN:VEVENT
DTSTART;VALUE=DATE:20251023
DTEND;VALUE=DATE:20251024
DTSTAMP:20260424T105259
CREATED:20240227T231907Z
LAST-MODIFIED:20240228T011116Z
UID:10003968-1761177600-1761263999@trashpandaslkn.com
SUMMARY:South Denver - Trash Pick Up
DESCRIPTION:Thursday: Trash Pick Up for South Denver Residents- below Unity Church Road
URL:https://trashpandaslkn.com/schedule/south-denver-trash-pick-up/2025-10-23/
CATEGORIES:Orange Zone
END:VEVENT
BEGIN:VEVENT
DTSTART;VALUE=DATE:20251023
DTEND;VALUE=DATE:20251024
DTSTAMP:20260424T105259
CREATED:20240227T232027Z
LAST-MODIFIED:20240228T011404Z
UID:10004229-1761177600-1761263999@trashpandaslkn.com
SUMMARY:Stanley (Lincoln County ONLY) - Trash Pick Up
DESCRIPTION:Thursday: Trash Pick Up for Stanley ( Lincoln County Only ) Residents
URL:https://trashpandaslkn.com/schedule/stanley-lincoln-county-only-trash-pick-up/2025-10-23/
CATEGORIES:Orange Zone
END:VEVENT
BEGIN:VEVENT
DTSTART;VALUE=DATE:20251030
DTEND;VALUE=DATE:20251031
DTSTAMP:20260424T105259
CREATED:20240227T231907Z
LAST-MODIFIED:20240228T011116Z
UID:10003969-1761782400-1761868799@trashpandaslkn.com
SUMMARY:South Denver - Trash Pick Up
DESCRIPTION:Thursday: Trash Pick Up for South Denver Residents- below Unity Church Road
URL:https://trashpandaslkn.com/schedule/south-denver-trash-pick-up/2025-10-30/
CATEGORIES:Orange Zone
END:VEVENT
BEGIN:VEVENT
DTSTART;VALUE=DATE:20251030
DTEND;VALUE=DATE:20251031
DTSTAMP:20260424T105259
CREATED:20240227T232027Z
LAST-MODIFIED:20240228T011404Z
UID:10004230-1761782400-1761868799@trashpandaslkn.com
SUMMARY:Stanley (Lincoln County ONLY) - Trash Pick Up
DESCRIPTION:Thursday: Trash Pick Up for Stanley ( Lincoln County Only ) Residents
URL:https://trashpandaslkn.com/schedule/stanley-lincoln-county-only-trash-pick-up/2025-10-30/
CATEGORIES:Orange Zone
END:VEVENT
END:VCALENDAR