BEGIN:VCALENDAR
VERSION:2.0
PRODID:-//Trash Pandas LKN - ECPv6.15.20//NONSGML v1.0//EN
CALSCALE:GREGORIAN
METHOD:PUBLISH
X-WR-CALNAME:Trash Pandas LKN
X-ORIGINAL-URL:https://trashpandaslkn.com
X-WR-CALDESC:Events for Trash Pandas LKN
REFRESH-INTERVAL;VALUE=DURATION:PT1H
X-Robots-Tag:noindex
X-PUBLISHED-TTL:PT1H
BEGIN:VTIMEZONE
TZID:America/New_York
BEGIN:DAYLIGHT
TZOFFSETFROM:-0500
TZOFFSETTO:-0400
TZNAME:EDT
DTSTART:20240310T070000
END:DAYLIGHT
BEGIN:STANDARD
TZOFFSETFROM:-0400
TZOFFSETTO:-0500
TZNAME:EST
DTSTART:20241103T060000
END:STANDARD
BEGIN:DAYLIGHT
TZOFFSETFROM:-0500
TZOFFSETTO:-0400
TZNAME:EDT
DTSTART:20250309T070000
END:DAYLIGHT
BEGIN:STANDARD
TZOFFSETFROM:-0400
TZOFFSETTO:-0500
TZNAME:EST
DTSTART:20251102T060000
END:STANDARD
BEGIN:DAYLIGHT
TZOFFSETFROM:-0500
TZOFFSETTO:-0400
TZNAME:EDT
DTSTART:20260308T070000
END:DAYLIGHT
BEGIN:STANDARD
TZOFFSETFROM:-0400
TZOFFSETTO:-0500
TZNAME:EST
DTSTART:20261101T060000
END:STANDARD
END:VTIMEZONE
BEGIN:VEVENT
DTSTART;VALUE=DATE:20251106
DTEND;VALUE=DATE:20251107
DTSTAMP:20260424T035301
CREATED:20240227T231907Z
LAST-MODIFIED:20240228T011116Z
UID:10003970-1762387200-1762473599@trashpandaslkn.com
SUMMARY:South Denver - Trash Pick Up
DESCRIPTION:Thursday: Trash Pick Up for South Denver Residents- below Unity Church Road
URL:https://trashpandaslkn.com/schedule/south-denver-trash-pick-up/2025-11-06/
CATEGORIES:Orange Zone
END:VEVENT
BEGIN:VEVENT
DTSTART;VALUE=DATE:20251106
DTEND;VALUE=DATE:20251107
DTSTAMP:20260424T035301
CREATED:20240227T232027Z
LAST-MODIFIED:20240228T011404Z
UID:10004231-1762387200-1762473599@trashpandaslkn.com
SUMMARY:Stanley (Lincoln County ONLY) - Trash Pick Up
DESCRIPTION:Thursday: Trash Pick Up for Stanley ( Lincoln County Only ) Residents
URL:https://trashpandaslkn.com/schedule/stanley-lincoln-county-only-trash-pick-up/2025-11-06/
CATEGORIES:Orange Zone
END:VEVENT
BEGIN:VEVENT
DTSTART;VALUE=DATE:20251113
DTEND;VALUE=DATE:20251114
DTSTAMP:20260424T035301
CREATED:20240227T231907Z
LAST-MODIFIED:20240228T011116Z
UID:10003971-1762992000-1763078399@trashpandaslkn.com
SUMMARY:South Denver - Trash Pick Up
DESCRIPTION:Thursday: Trash Pick Up for South Denver Residents- below Unity Church Road
URL:https://trashpandaslkn.com/schedule/south-denver-trash-pick-up/2025-11-13/
CATEGORIES:Orange Zone
END:VEVENT
BEGIN:VEVENT
DTSTART;VALUE=DATE:20251113
DTEND;VALUE=DATE:20251114
DTSTAMP:20260424T035301
CREATED:20240227T232027Z
LAST-MODIFIED:20240228T011404Z
UID:10004232-1762992000-1763078399@trashpandaslkn.com
SUMMARY:Stanley (Lincoln County ONLY) - Trash Pick Up
DESCRIPTION:Thursday: Trash Pick Up for Stanley ( Lincoln County Only ) Residents
URL:https://trashpandaslkn.com/schedule/stanley-lincoln-county-only-trash-pick-up/2025-11-13/
CATEGORIES:Orange Zone
END:VEVENT
BEGIN:VEVENT
DTSTART;VALUE=DATE:20251120
DTEND;VALUE=DATE:20251121
DTSTAMP:20260424T035301
CREATED:20240227T231907Z
LAST-MODIFIED:20240228T011116Z
UID:10003972-1763596800-1763683199@trashpandaslkn.com
SUMMARY:South Denver - Trash Pick Up
DESCRIPTION:Thursday: Trash Pick Up for South Denver Residents- below Unity Church Road
URL:https://trashpandaslkn.com/schedule/south-denver-trash-pick-up/2025-11-20/
CATEGORIES:Orange Zone
END:VEVENT
BEGIN:VEVENT
DTSTART;VALUE=DATE:20251120
DTEND;VALUE=DATE:20251121
DTSTAMP:20260424T035301
CREATED:20240227T232027Z
LAST-MODIFIED:20240228T011404Z
UID:10004233-1763596800-1763683199@trashpandaslkn.com
SUMMARY:Stanley (Lincoln County ONLY) - Trash Pick Up
DESCRIPTION:Thursday: Trash Pick Up for Stanley ( Lincoln County Only ) Residents
URL:https://trashpandaslkn.com/schedule/stanley-lincoln-county-only-trash-pick-up/2025-11-20/
CATEGORIES:Orange Zone
END:VEVENT
BEGIN:VEVENT
DTSTART;VALUE=DATE:20251127
DTEND;VALUE=DATE:20251128
DTSTAMP:20260424T035301
CREATED:20240227T231907Z
LAST-MODIFIED:20240228T011116Z
UID:10003973-1764201600-1764287999@trashpandaslkn.com
SUMMARY:South Denver - Trash Pick Up
DESCRIPTION:Thursday: Trash Pick Up for South Denver Residents- below Unity Church Road
URL:https://trashpandaslkn.com/schedule/south-denver-trash-pick-up/2025-11-27/
CATEGORIES:Orange Zone
END:VEVENT
BEGIN:VEVENT
DTSTART;VALUE=DATE:20251127
DTEND;VALUE=DATE:20251128
DTSTAMP:20260424T035301
CREATED:20240227T232027Z
LAST-MODIFIED:20240228T011404Z
UID:10004234-1764201600-1764287999@trashpandaslkn.com
SUMMARY:Stanley (Lincoln County ONLY) - Trash Pick Up
DESCRIPTION:Thursday: Trash Pick Up for Stanley ( Lincoln County Only ) Residents
URL:https://trashpandaslkn.com/schedule/stanley-lincoln-county-only-trash-pick-up/2025-11-27/
CATEGORIES:Orange Zone
END:VEVENT
END:VCALENDAR