BEGIN:VCALENDAR
VERSION:2.0
PRODID:-//Trash Pandas LKN - ECPv6.15.20//NONSGML v1.0//EN
CALSCALE:GREGORIAN
METHOD:PUBLISH
X-ORIGINAL-URL:https://trashpandaslkn.com
X-WR-CALDESC:Events for Trash Pandas LKN
REFRESH-INTERVAL;VALUE=DURATION:PT1H
X-Robots-Tag:noindex
X-PUBLISHED-TTL:PT1H
BEGIN:VTIMEZONE
TZID:America/New_York
BEGIN:DAYLIGHT
TZOFFSETFROM:-0500
TZOFFSETTO:-0400
TZNAME:EDT
DTSTART:20270314T070000
END:DAYLIGHT
BEGIN:STANDARD
TZOFFSETFROM:-0400
TZOFFSETTO:-0500
TZNAME:EST
DTSTART:20271107T060000
END:STANDARD
BEGIN:DAYLIGHT
TZOFFSETFROM:-0500
TZOFFSETTO:-0400
TZNAME:EDT
DTSTART:20280312T070000
END:DAYLIGHT
BEGIN:STANDARD
TZOFFSETFROM:-0400
TZOFFSETTO:-0500
TZNAME:EST
DTSTART:20281105T060000
END:STANDARD
BEGIN:DAYLIGHT
TZOFFSETFROM:-0500
TZOFFSETTO:-0400
TZNAME:EDT
DTSTART:20290311T070000
END:DAYLIGHT
BEGIN:STANDARD
TZOFFSETFROM:-0400
TZOFFSETTO:-0500
TZNAME:EST
DTSTART:20291104T060000
END:STANDARD
END:VTIMEZONE
BEGIN:VEVENT
DTSTART;VALUE=DATE:20280302
DTEND;VALUE=DATE:20280303
DTSTAMP:20260420T115615
CREATED:20240227T231907Z
LAST-MODIFIED:20240228T011116Z
UID:10004091-1835568000-1835654399@trashpandaslkn.com
SUMMARY:South Denver - Trash Pick Up
DESCRIPTION:Thursday: Trash Pick Up for South Denver Residents- below Unity Church Road
URL:https://trashpandaslkn.com/schedule/south-denver-trash-pick-up/2028-03-02/
CATEGORIES:Orange Zone
END:VEVENT
BEGIN:VEVENT
DTSTART;VALUE=DATE:20280302
DTEND;VALUE=DATE:20280303
DTSTAMP:20260420T115615
CREATED:20240227T232027Z
LAST-MODIFIED:20240228T011404Z
UID:10004352-1835568000-1835654399@trashpandaslkn.com
SUMMARY:Stanley (Lincoln County ONLY) - Trash Pick Up
DESCRIPTION:Thursday: Trash Pick Up for Stanley ( Lincoln County Only ) Residents
URL:https://trashpandaslkn.com/schedule/stanley-lincoln-county-only-trash-pick-up/2028-03-02/
CATEGORIES:Orange Zone
END:VEVENT
BEGIN:VEVENT
DTSTART;VALUE=DATE:20280309
DTEND;VALUE=DATE:20280310
DTSTAMP:20260420T115615
CREATED:20240227T231907Z
LAST-MODIFIED:20240228T011116Z
UID:10004092-1836172800-1836259199@trashpandaslkn.com
SUMMARY:South Denver - Trash Pick Up
DESCRIPTION:Thursday: Trash Pick Up for South Denver Residents- below Unity Church Road
URL:https://trashpandaslkn.com/schedule/south-denver-trash-pick-up/2028-03-09/
CATEGORIES:Orange Zone
END:VEVENT
BEGIN:VEVENT
DTSTART;VALUE=DATE:20280309
DTEND;VALUE=DATE:20280310
DTSTAMP:20260420T115615
CREATED:20240227T232027Z
LAST-MODIFIED:20240228T011404Z
UID:10004353-1836172800-1836259199@trashpandaslkn.com
SUMMARY:Stanley (Lincoln County ONLY) - Trash Pick Up
DESCRIPTION:Thursday: Trash Pick Up for Stanley ( Lincoln County Only ) Residents
URL:https://trashpandaslkn.com/schedule/stanley-lincoln-county-only-trash-pick-up/2028-03-09/
CATEGORIES:Orange Zone
END:VEVENT
BEGIN:VEVENT
DTSTART;VALUE=DATE:20280316
DTEND;VALUE=DATE:20280317
DTSTAMP:20260420T115615
CREATED:20240227T231907Z
LAST-MODIFIED:20240228T011116Z
UID:10004093-1836777600-1836863999@trashpandaslkn.com
SUMMARY:South Denver - Trash Pick Up
DESCRIPTION:Thursday: Trash Pick Up for South Denver Residents- below Unity Church Road
URL:https://trashpandaslkn.com/schedule/south-denver-trash-pick-up/2028-03-16/
CATEGORIES:Orange Zone
END:VEVENT
BEGIN:VEVENT
DTSTART;VALUE=DATE:20280316
DTEND;VALUE=DATE:20280317
DTSTAMP:20260420T115615
CREATED:20240227T232027Z
LAST-MODIFIED:20240228T011404Z
UID:10004354-1836777600-1836863999@trashpandaslkn.com
SUMMARY:Stanley (Lincoln County ONLY) - Trash Pick Up
DESCRIPTION:Thursday: Trash Pick Up for Stanley ( Lincoln County Only ) Residents
URL:https://trashpandaslkn.com/schedule/stanley-lincoln-county-only-trash-pick-up/2028-03-16/
CATEGORIES:Orange Zone
END:VEVENT
BEGIN:VEVENT
DTSTART;VALUE=DATE:20280323
DTEND;VALUE=DATE:20280324
DTSTAMP:20260420T115615
CREATED:20240227T231907Z
LAST-MODIFIED:20240228T011116Z
UID:10004094-1837382400-1837468799@trashpandaslkn.com
SUMMARY:South Denver - Trash Pick Up
DESCRIPTION:Thursday: Trash Pick Up for South Denver Residents- below Unity Church Road
URL:https://trashpandaslkn.com/schedule/south-denver-trash-pick-up/2028-03-23/
CATEGORIES:Orange Zone
END:VEVENT
BEGIN:VEVENT
DTSTART;VALUE=DATE:20280323
DTEND;VALUE=DATE:20280324
DTSTAMP:20260420T115615
CREATED:20240227T232027Z
LAST-MODIFIED:20240228T011404Z
UID:10004355-1837382400-1837468799@trashpandaslkn.com
SUMMARY:Stanley (Lincoln County ONLY) - Trash Pick Up
DESCRIPTION:Thursday: Trash Pick Up for Stanley ( Lincoln County Only ) Residents
URL:https://trashpandaslkn.com/schedule/stanley-lincoln-county-only-trash-pick-up/2028-03-23/
CATEGORIES:Orange Zone
END:VEVENT
BEGIN:VEVENT
DTSTART;VALUE=DATE:20280330
DTEND;VALUE=DATE:20280331
DTSTAMP:20260420T115615
CREATED:20240227T231907Z
LAST-MODIFIED:20240228T011116Z
UID:10004095-1837987200-1838073599@trashpandaslkn.com
SUMMARY:South Denver - Trash Pick Up
DESCRIPTION:Thursday: Trash Pick Up for South Denver Residents- below Unity Church Road
URL:https://trashpandaslkn.com/schedule/south-denver-trash-pick-up/2028-03-30/
CATEGORIES:Orange Zone
END:VEVENT
BEGIN:VEVENT
DTSTART;VALUE=DATE:20280330
DTEND;VALUE=DATE:20280331
DTSTAMP:20260420T115615
CREATED:20240227T232027Z
LAST-MODIFIED:20240228T011404Z
UID:10004356-1837987200-1838073599@trashpandaslkn.com
SUMMARY:Stanley (Lincoln County ONLY) - Trash Pick Up
DESCRIPTION:Thursday: Trash Pick Up for Stanley ( Lincoln County Only ) Residents
URL:https://trashpandaslkn.com/schedule/stanley-lincoln-county-only-trash-pick-up/2028-03-30/
CATEGORIES:Orange Zone
END:VEVENT
END:VCALENDAR