BEGIN:VCALENDAR
VERSION:2.0
PRODID:-//Trash Pandas LKN - ECPv6.15.20//NONSGML v1.0//EN
CALSCALE:GREGORIAN
METHOD:PUBLISH
X-ORIGINAL-URL:https://trashpandaslkn.com
X-WR-CALDESC:Events for Trash Pandas LKN
REFRESH-INTERVAL;VALUE=DURATION:PT1H
X-Robots-Tag:noindex
X-PUBLISHED-TTL:PT1H
BEGIN:VTIMEZONE
TZID:America/New_York
BEGIN:DAYLIGHT
TZOFFSETFROM:-0500
TZOFFSETTO:-0400
TZNAME:EDT
DTSTART:20270314T070000
END:DAYLIGHT
BEGIN:STANDARD
TZOFFSETFROM:-0400
TZOFFSETTO:-0500
TZNAME:EST
DTSTART:20271107T060000
END:STANDARD
BEGIN:DAYLIGHT
TZOFFSETFROM:-0500
TZOFFSETTO:-0400
TZNAME:EDT
DTSTART:20280312T070000
END:DAYLIGHT
BEGIN:STANDARD
TZOFFSETFROM:-0400
TZOFFSETTO:-0500
TZNAME:EST
DTSTART:20281105T060000
END:STANDARD
BEGIN:DAYLIGHT
TZOFFSETFROM:-0500
TZOFFSETTO:-0400
TZNAME:EDT
DTSTART:20290311T070000
END:DAYLIGHT
BEGIN:STANDARD
TZOFFSETFROM:-0400
TZOFFSETTO:-0500
TZNAME:EST
DTSTART:20291104T060000
END:STANDARD
END:VTIMEZONE
BEGIN:VEVENT
DTSTART;VALUE=DATE:20280601
DTEND;VALUE=DATE:20280602
DTSTAMP:20260420T161546
CREATED:20240227T231907Z
LAST-MODIFIED:20240228T011116Z
UID:10004104-1843430400-1843516799@trashpandaslkn.com
SUMMARY:South Denver - Trash Pick Up
DESCRIPTION:Thursday: Trash Pick Up for South Denver Residents- below Unity Church Road
URL:https://trashpandaslkn.com/schedule/south-denver-trash-pick-up/2028-06-01/
CATEGORIES:Orange Zone
END:VEVENT
BEGIN:VEVENT
DTSTART;VALUE=DATE:20280601
DTEND;VALUE=DATE:20280602
DTSTAMP:20260420T161546
CREATED:20240227T232027Z
LAST-MODIFIED:20240228T011404Z
UID:10004365-1843430400-1843516799@trashpandaslkn.com
SUMMARY:Stanley (Lincoln County ONLY) - Trash Pick Up
DESCRIPTION:Thursday: Trash Pick Up for Stanley ( Lincoln County Only ) Residents
URL:https://trashpandaslkn.com/schedule/stanley-lincoln-county-only-trash-pick-up/2028-06-01/
CATEGORIES:Orange Zone
END:VEVENT
BEGIN:VEVENT
DTSTART;VALUE=DATE:20280608
DTEND;VALUE=DATE:20280609
DTSTAMP:20260420T161546
CREATED:20240227T231907Z
LAST-MODIFIED:20240228T011116Z
UID:10004105-1844035200-1844121599@trashpandaslkn.com
SUMMARY:South Denver - Trash Pick Up
DESCRIPTION:Thursday: Trash Pick Up for South Denver Residents- below Unity Church Road
URL:https://trashpandaslkn.com/schedule/south-denver-trash-pick-up/2028-06-08/
CATEGORIES:Orange Zone
END:VEVENT
BEGIN:VEVENT
DTSTART;VALUE=DATE:20280608
DTEND;VALUE=DATE:20280609
DTSTAMP:20260420T161546
CREATED:20240227T232027Z
LAST-MODIFIED:20240228T011404Z
UID:10004366-1844035200-1844121599@trashpandaslkn.com
SUMMARY:Stanley (Lincoln County ONLY) - Trash Pick Up
DESCRIPTION:Thursday: Trash Pick Up for Stanley ( Lincoln County Only ) Residents
URL:https://trashpandaslkn.com/schedule/stanley-lincoln-county-only-trash-pick-up/2028-06-08/
CATEGORIES:Orange Zone
END:VEVENT
BEGIN:VEVENT
DTSTART;VALUE=DATE:20280615
DTEND;VALUE=DATE:20280616
DTSTAMP:20260420T161546
CREATED:20240227T231907Z
LAST-MODIFIED:20240228T011116Z
UID:10004106-1844640000-1844726399@trashpandaslkn.com
SUMMARY:South Denver - Trash Pick Up
DESCRIPTION:Thursday: Trash Pick Up for South Denver Residents- below Unity Church Road
URL:https://trashpandaslkn.com/schedule/south-denver-trash-pick-up/2028-06-15/
CATEGORIES:Orange Zone
END:VEVENT
BEGIN:VEVENT
DTSTART;VALUE=DATE:20280615
DTEND;VALUE=DATE:20280616
DTSTAMP:20260420T161546
CREATED:20240227T232027Z
LAST-MODIFIED:20240228T011404Z
UID:10004367-1844640000-1844726399@trashpandaslkn.com
SUMMARY:Stanley (Lincoln County ONLY) - Trash Pick Up
DESCRIPTION:Thursday: Trash Pick Up for Stanley ( Lincoln County Only ) Residents
URL:https://trashpandaslkn.com/schedule/stanley-lincoln-county-only-trash-pick-up/2028-06-15/
CATEGORIES:Orange Zone
END:VEVENT
BEGIN:VEVENT
DTSTART;VALUE=DATE:20280622
DTEND;VALUE=DATE:20280623
DTSTAMP:20260420T161546
CREATED:20240227T231907Z
LAST-MODIFIED:20240228T011116Z
UID:10004107-1845244800-1845331199@trashpandaslkn.com
SUMMARY:South Denver - Trash Pick Up
DESCRIPTION:Thursday: Trash Pick Up for South Denver Residents- below Unity Church Road
URL:https://trashpandaslkn.com/schedule/south-denver-trash-pick-up/2028-06-22/
CATEGORIES:Orange Zone
END:VEVENT
BEGIN:VEVENT
DTSTART;VALUE=DATE:20280622
DTEND;VALUE=DATE:20280623
DTSTAMP:20260420T161546
CREATED:20240227T232027Z
LAST-MODIFIED:20240228T011404Z
UID:10004368-1845244800-1845331199@trashpandaslkn.com
SUMMARY:Stanley (Lincoln County ONLY) - Trash Pick Up
DESCRIPTION:Thursday: Trash Pick Up for Stanley ( Lincoln County Only ) Residents
URL:https://trashpandaslkn.com/schedule/stanley-lincoln-county-only-trash-pick-up/2028-06-22/
CATEGORIES:Orange Zone
END:VEVENT
BEGIN:VEVENT
DTSTART;VALUE=DATE:20280629
DTEND;VALUE=DATE:20280630
DTSTAMP:20260420T161546
CREATED:20240227T231907Z
LAST-MODIFIED:20240228T011116Z
UID:10004108-1845849600-1845935999@trashpandaslkn.com
SUMMARY:South Denver - Trash Pick Up
DESCRIPTION:Thursday: Trash Pick Up for South Denver Residents- below Unity Church Road
URL:https://trashpandaslkn.com/schedule/south-denver-trash-pick-up/2028-06-29/
CATEGORIES:Orange Zone
END:VEVENT
BEGIN:VEVENT
DTSTART;VALUE=DATE:20280629
DTEND;VALUE=DATE:20280630
DTSTAMP:20260420T161546
CREATED:20240227T232027Z
LAST-MODIFIED:20240228T011404Z
UID:10004369-1845849600-1845935999@trashpandaslkn.com
SUMMARY:Stanley (Lincoln County ONLY) - Trash Pick Up
DESCRIPTION:Thursday: Trash Pick Up for Stanley ( Lincoln County Only ) Residents
URL:https://trashpandaslkn.com/schedule/stanley-lincoln-county-only-trash-pick-up/2028-06-29/
CATEGORIES:Orange Zone
END:VEVENT
END:VCALENDAR