BEGIN:VCALENDAR
VERSION:2.0
PRODID:-//Trash Pandas LKN - ECPv6.15.20//NONSGML v1.0//EN
CALSCALE:GREGORIAN
METHOD:PUBLISH
X-ORIGINAL-URL:https://trashpandaslkn.com
X-WR-CALDESC:Events for Trash Pandas LKN
REFRESH-INTERVAL;VALUE=DURATION:PT1H
X-Robots-Tag:noindex
X-PUBLISHED-TTL:PT1H
BEGIN:VTIMEZONE
TZID:America/New_York
BEGIN:DAYLIGHT
TZOFFSETFROM:-0500
TZOFFSETTO:-0400
TZNAME:EDT
DTSTART:20270314T070000
END:DAYLIGHT
BEGIN:STANDARD
TZOFFSETFROM:-0400
TZOFFSETTO:-0500
TZNAME:EST
DTSTART:20271107T060000
END:STANDARD
BEGIN:DAYLIGHT
TZOFFSETFROM:-0500
TZOFFSETTO:-0400
TZNAME:EDT
DTSTART:20280312T070000
END:DAYLIGHT
BEGIN:STANDARD
TZOFFSETFROM:-0400
TZOFFSETTO:-0500
TZNAME:EST
DTSTART:20281105T060000
END:STANDARD
BEGIN:DAYLIGHT
TZOFFSETFROM:-0500
TZOFFSETTO:-0400
TZNAME:EDT
DTSTART:20290311T070000
END:DAYLIGHT
BEGIN:STANDARD
TZOFFSETFROM:-0400
TZOFFSETTO:-0500
TZNAME:EST
DTSTART:20291104T060000
END:STANDARD
END:VTIMEZONE
BEGIN:VEVENT
DTSTART;VALUE=DATE:20280803
DTEND;VALUE=DATE:20280804
DTSTAMP:20260420T185948
CREATED:20240227T231907Z
LAST-MODIFIED:20240228T011116Z
UID:10004113-1848873600-1848959999@trashpandaslkn.com
SUMMARY:South Denver - Trash Pick Up
DESCRIPTION:Thursday: Trash Pick Up for South Denver Residents- below Unity Church Road
URL:https://trashpandaslkn.com/schedule/south-denver-trash-pick-up/2028-08-03/
CATEGORIES:Orange Zone
END:VEVENT
BEGIN:VEVENT
DTSTART;VALUE=DATE:20280803
DTEND;VALUE=DATE:20280804
DTSTAMP:20260420T185948
CREATED:20240227T232027Z
LAST-MODIFIED:20240228T011404Z
UID:10004374-1848873600-1848959999@trashpandaslkn.com
SUMMARY:Stanley (Lincoln County ONLY) - Trash Pick Up
DESCRIPTION:Thursday: Trash Pick Up for Stanley ( Lincoln County Only ) Residents
URL:https://trashpandaslkn.com/schedule/stanley-lincoln-county-only-trash-pick-up/2028-08-03/
CATEGORIES:Orange Zone
END:VEVENT
BEGIN:VEVENT
DTSTART;VALUE=DATE:20280810
DTEND;VALUE=DATE:20280811
DTSTAMP:20260420T185948
CREATED:20240227T231907Z
LAST-MODIFIED:20240228T011116Z
UID:10004114-1849478400-1849564799@trashpandaslkn.com
SUMMARY:South Denver - Trash Pick Up
DESCRIPTION:Thursday: Trash Pick Up for South Denver Residents- below Unity Church Road
URL:https://trashpandaslkn.com/schedule/south-denver-trash-pick-up/2028-08-10/
CATEGORIES:Orange Zone
END:VEVENT
BEGIN:VEVENT
DTSTART;VALUE=DATE:20280810
DTEND;VALUE=DATE:20280811
DTSTAMP:20260420T185948
CREATED:20240227T232027Z
LAST-MODIFIED:20240228T011404Z
UID:10004375-1849478400-1849564799@trashpandaslkn.com
SUMMARY:Stanley (Lincoln County ONLY) - Trash Pick Up
DESCRIPTION:Thursday: Trash Pick Up for Stanley ( Lincoln County Only ) Residents
URL:https://trashpandaslkn.com/schedule/stanley-lincoln-county-only-trash-pick-up/2028-08-10/
CATEGORIES:Orange Zone
END:VEVENT
BEGIN:VEVENT
DTSTART;VALUE=DATE:20280817
DTEND;VALUE=DATE:20280818
DTSTAMP:20260420T185948
CREATED:20240227T231907Z
LAST-MODIFIED:20240228T011116Z
UID:10004115-1850083200-1850169599@trashpandaslkn.com
SUMMARY:South Denver - Trash Pick Up
DESCRIPTION:Thursday: Trash Pick Up for South Denver Residents- below Unity Church Road
URL:https://trashpandaslkn.com/schedule/south-denver-trash-pick-up/2028-08-17/
CATEGORIES:Orange Zone
END:VEVENT
BEGIN:VEVENT
DTSTART;VALUE=DATE:20280817
DTEND;VALUE=DATE:20280818
DTSTAMP:20260420T185948
CREATED:20240227T232027Z
LAST-MODIFIED:20240228T011404Z
UID:10004376-1850083200-1850169599@trashpandaslkn.com
SUMMARY:Stanley (Lincoln County ONLY) - Trash Pick Up
DESCRIPTION:Thursday: Trash Pick Up for Stanley ( Lincoln County Only ) Residents
URL:https://trashpandaslkn.com/schedule/stanley-lincoln-county-only-trash-pick-up/2028-08-17/
CATEGORIES:Orange Zone
END:VEVENT
BEGIN:VEVENT
DTSTART;VALUE=DATE:20280824
DTEND;VALUE=DATE:20280825
DTSTAMP:20260420T185948
CREATED:20240227T231907Z
LAST-MODIFIED:20240228T011116Z
UID:10004116-1850688000-1850774399@trashpandaslkn.com
SUMMARY:South Denver - Trash Pick Up
DESCRIPTION:Thursday: Trash Pick Up for South Denver Residents- below Unity Church Road
URL:https://trashpandaslkn.com/schedule/south-denver-trash-pick-up/2028-08-24/
CATEGORIES:Orange Zone
END:VEVENT
BEGIN:VEVENT
DTSTART;VALUE=DATE:20280824
DTEND;VALUE=DATE:20280825
DTSTAMP:20260420T185948
CREATED:20240227T232027Z
LAST-MODIFIED:20240228T011404Z
UID:10004377-1850688000-1850774399@trashpandaslkn.com
SUMMARY:Stanley (Lincoln County ONLY) - Trash Pick Up
DESCRIPTION:Thursday: Trash Pick Up for Stanley ( Lincoln County Only ) Residents
URL:https://trashpandaslkn.com/schedule/stanley-lincoln-county-only-trash-pick-up/2028-08-24/
CATEGORIES:Orange Zone
END:VEVENT
BEGIN:VEVENT
DTSTART;VALUE=DATE:20280831
DTEND;VALUE=DATE:20280901
DTSTAMP:20260420T185948
CREATED:20240227T231907Z
LAST-MODIFIED:20240228T011116Z
UID:10004117-1851292800-1851379199@trashpandaslkn.com
SUMMARY:South Denver - Trash Pick Up
DESCRIPTION:Thursday: Trash Pick Up for South Denver Residents- below Unity Church Road
URL:https://trashpandaslkn.com/schedule/south-denver-trash-pick-up/2028-08-31/
CATEGORIES:Orange Zone
END:VEVENT
BEGIN:VEVENT
DTSTART;VALUE=DATE:20280831
DTEND;VALUE=DATE:20280901
DTSTAMP:20260420T185948
CREATED:20240227T232027Z
LAST-MODIFIED:20240228T011404Z
UID:10004378-1851292800-1851379199@trashpandaslkn.com
SUMMARY:Stanley (Lincoln County ONLY) - Trash Pick Up
DESCRIPTION:Thursday: Trash Pick Up for Stanley ( Lincoln County Only ) Residents
URL:https://trashpandaslkn.com/schedule/stanley-lincoln-county-only-trash-pick-up/2028-08-31/
CATEGORIES:Orange Zone
END:VEVENT
END:VCALENDAR